BEGIN:VCALENDAR
VERSION:2.0
PRODID:-//ChamberMaster//Event Calendar 2.0//EN
METHOD:PUBLISH
X-PUBLISHED-TTL:P3D
REFRESH-INTERVAL:P3D
CALSCALE:GREGORIAN
BEGIN:VEVENT
DTSTART:20210203T150000Z
DTEND:20210203T160000Z
X-MICROSOFT-CDO-ALLDAYEVENT:FALSE
SUMMARY:2021 Virtual Oregon Legislative Affairs Discussions
DESCRIPTION:As Oregon prepares for the 2021 Legislative Session beginning January 19th\, \nBlue Mountain Community College\n is finding ways to keep you connected to the process! Every Wednesday morning at 7:30am\, beginning Jan. 20\, BMCC will have a Zoom meeting with our local Legislators: Senator Hansell\, and Representative Levy.  Rep Smith\, is available by email or phone\, but do to his committee schedules he is unable to attend these each week.  \n\n\n\nThis is your opportunity to be connected to your State government. The Legislators will provide a weekly update on bills and answer questions from participants on the call. If you have questions but are not able to attend the meeting\, please send them to the Boardman Chamber via email at info@boardmanchamber.org.
X-ALT-DESC;FMTTYPE=text/html:<span style="color: rgb(5\, 5\, 5)\; font-family: &quot\;Segoe UI Historic&quot\;\, &quot\;Segoe UI&quot\;\, Helvetica\, Arial\, sans-serif\; font-size: 15px\; background-color: rgb(255\, 255\, 255)\;">As Oregon prepares for the 2021 Legislative Session beginning January 19th\,&nbsp\;</span>\n<div class="nc684nl6" style="display: inline\; font-family: inherit\;"><span style="font-family: &quot\;Segoe UI Historic&quot\;\, &quot\;Segoe UI&quot\;\, Helvetica\, Arial\, sans-serif\; color: rgb(5\, 5\, 5)\; font-size: 15px\; background-color: rgb(255\, 255\, 255)\;"><a class="oajrlxb2 g5ia77u1 qu0x051f esr5mh6w e9989ue4 r7d6kgcz rq0escxv nhd2j8a9 nc684nl6 p7hjln8o kvgmc6g5 cxmmr5t8 oygrvhab hcukyx3x jb3vyjys rz4wbd8a qt6c0cv9 a8nywdso i1ao9s8h esuyzwwr f1sip0of lzcic4wl oo9gr5id gpro0wi8 lrazzd5p" href="https://www.facebook.com/BlueMountainCommunityCollege/?__tn__=kK*F" role="link" style="cursor: pointer\; text-decoration-line: none\; outline: none\; list-style: none\; border-width: 0px\; border-style: initial\; border-color: initial\; padding: 0px\; margin: 0px\; touch-action: manipulation\; background-color: transparent\; text-align: inherit\; font-weight: 600\; display: inline\; -webkit-tap-highlight-color: transparent\; box-sizing: border-box\; font-family: inherit\;" tabindex="0"><span style="font-family: inherit\;">Blue Mountain Community College</span></a></span></div>\n<span style="background-color: rgb(255\, 255\, 255)\;"><font color="#050505" face="Segoe UI Historic\, Segoe UI\, Helvetica\, Arial\, sans-serif"><span style="font-size: 15px\;">&nbsp\;is finding ways to keep you connected to the process! Every Wednesday morning at 7:30am\, beginning Jan. 20\, BMCC will have a Zoom meeting with our local Legislators: Senator Hansell\, and Representative Levy.&nbsp\; Rep Smith\, is available by email or phone\, but do to his committee schedules he is unable to attend these each week.&nbsp\;&nbsp\;</span></font></span><br />\n<br />\n<span style="color: rgb(5\, 5\, 5)\; font-family: &quot\;Segoe UI Historic&quot\;\, &quot\;Segoe UI&quot\;\, Helvetica\, Arial\, sans-serif\; font-size: 15px\; background-color: rgb(255\, 255\, 255)\;">This is your opportunity to be connected to your State government. The Legislators will provide a weekly update on bills and answer questions from participants on the call. If you have questions but are not able to attend the meeting\, please send them to the Boardman Chamber via email at info@boardmanchamber.org.</span><br />\n<br />\n&nbsp\;
LOCATION:This opportunity is fully virtual and being held on Zoom. The meeting information is in the graphic below. Should you need assistance connecting to this meeting\, there is also a call-in option: +1 253 215 8782 https://bluecc.zoom.us/j/92083745312 Meeting ID: 920 8374 5312
UID:e.3223.1332
SEQUENCE:3
DTSTAMP:20260420T000847Z
URL:http://boardman.chambermaster.com/events/details/2021-virtual-oregon-legislative-affairs-discussions-1332
END:VEVENT

END:VCALENDAR
