BEGIN:VCALENDAR
VERSION:2.0
PRODID:-//ChamberMaster//Event Calendar 2.0//EN
METHOD:PUBLISH
X-PUBLISHED-TTL:P3D
REFRESH-INTERVAL:P3D
CALSCALE:GREGORIAN
BEGIN:VEVENT
DTSTART:20190917T233000Z
DTEND:20190918T020000Z
X-MICROSOFT-CDO-ALLDAYEVENT:FALSE
SUMMARY:AG In The Classroom
DESCRIPTION:Oregon Agriculture in the Classroom is holding a free educator workshop at The SAGE Center. The workshop is open to all educators. \n\nFor more information or register online\, please visit the bellow website\n\nwww.oregonaitc.org/programs/educator-workshop
X-ALT-DESC;FMTTYPE=text/html:Oregon Agriculture in the Classroom is holding a free educator workshop at The SAGE Center. The workshop is open to all educators.&nbsp\;<br />\nFor more information or register online\, please visit the bellow website<br />\nwww.oregonaitc.org/programs/educator-workshop
LOCATION:SAGE Center 101 Olson Rd Boardman OR 97818
UID:e.3223.410
SEQUENCE:3
DTSTAMP:20260423T191459Z
URL:http://boardman.chambermaster.com/events/details/ag-in-the-classroom-410
END:VEVENT

END:VCALENDAR
