BEGIN:VCALENDAR
VERSION:2.0
PRODID:-//ChamberMaster//Event Calendar 2.0//EN
METHOD:PUBLISH
X-PUBLISHED-TTL:P3D
REFRESH-INTERVAL:P3D
CALSCALE:GREGORIAN
BEGIN:VEVENT
DTSTART:20190417T190000Z
DTEND:20190417T200000Z
X-MICROSOFT-CDO-ALLDAYEVENT:FALSE
SUMMARY:April Luncheon
DESCRIPTION:Please join us in celebration for Administravie Professionals day at our April Luncheon for an afternoon of fun!\n\nBoardman Senior Center will be catering and Tammy Malgesini will be our guest speaker.\n\nRSVP kelsey@boardmanchamber.org or 541-481-3014
X-ALT-DESC;FMTTYPE=text/html:Please join us in celebration for Administravie Professionals day at our April Luncheon for an afternoon of fun!<br />\nBoardman Senior Center will be catering and Tammy Malgesini will be our guest speaker.<br />\nRSVP <a href="mailto:kelsey@boardmanchamber.org">kelsey@boardmanchamber.org</a> or 541-481-3014
LOCATION:Riverfront Center 2 Marine Drive Boardman\, OR
UID:e.3223.301
SEQUENCE:3
DTSTAMP:20260423T134205Z
URL:http://boardman.chambermaster.com/events/details/april-luncheon-301
END:VEVENT

END:VCALENDAR
