BEGIN:VCALENDAR
VERSION:2.0
PRODID:-//ChamberMaster//Event Calendar 2.0//EN
METHOD:PUBLISH
X-PUBLISHED-TTL:P3D
REFRESH-INTERVAL:P3D
CALSCALE:GREGORIAN
BEGIN:VEVENT
DTSTART:20190329T150000Z
DTEND:20190329T230000Z
X-MICROSOFT-CDO-ALLDAYEVENT:FALSE
SUMMARY:Bake Sale
DESCRIPTION:Bake Sale!!\n\nTo raise mone for the kind wind team to go to Houston.
X-ALT-DESC;FMTTYPE=text/html:Bake Sale!!<br />\nTo raise mone for the kind wind team to go to Houston.
LOCATION:Cafe Caultura
UID:e.3223.294
SEQUENCE:3
DTSTAMP:20260425T183455Z
URL:http://boardman.chambermaster.com/events/details/bake-sale-294
END:VEVENT

END:VCALENDAR
