BEGIN:VCALENDAR
VERSION:2.0
PRODID:-//ChamberMaster//Event Calendar 2.0//EN
METHOD:PUBLISH
X-PUBLISHED-TTL:P3D
REFRESH-INTERVAL:P3D
CALSCALE:GREGORIAN
BEGIN:VEVENT
DTSTART;VALUE=DATE:20190319
DTEND;VALUE=DATE:20190320
TRANSP:TRANSPARENT
X-MICROSOFT-CDO-ALLDAYEVENT:TRUE
SUMMARY:BMCC English Language Acquisition
DESCRIPTION:HERMISTON Information Session\n\nColumbia Hall Computer Lab 106 9am or 5:30pm\n\nPlacement Sessions\n\nThursday March 21st\, 2016 Columbia Hall Computer Lab 106\n\n\n\nClasses Begin April 1st\, 2019
X-ALT-DESC;FMTTYPE=text/html:<p><strong>HERMISTON Information Session</strong><br />\nColumbia Hall Computer Lab 106 9am or 5:30pm<br />\n<strong>Placement Sessions</strong><br />\nThursday March 21st\, 2016 Columbia Hall Computer Lab 106<br />\n<br />\n<strong>Classes Begin April 1st\, 2019</strong></p>\n
LOCATION:
UID:e.3223.245
SEQUENCE:3
DTSTAMP:20260424T153957Z
URL:http://boardman.chambermaster.com/events/details/bmcc-english-language-acquisition-245
END:VEVENT

END:VCALENDAR
