BEGIN:VCALENDAR
VERSION:2.0
PRODID:-//ChamberMaster//Event Calendar 2.0//EN
METHOD:PUBLISH
X-PUBLISHED-TTL:P3D
REFRESH-INTERVAL:P3D
CALSCALE:GREGORIAN
BEGIN:VEVENT
DTSTART:20191113T150000Z
DTEND:20191113T163000Z
X-MICROSOFT-CDO-ALLDAYEVENT:FALSE
SUMMARY:Boardman Chamber Board Meeting
DESCRIPTION:Our annual board meeting
X-ALT-DESC;FMTTYPE=text/html:Our annual board meeting
LOCATION:101 Olson Rd Conference Room
UID:e.3223.455
SEQUENCE:3
DTSTAMP:20260422T054152Z
URL:http://boardman.chambermaster.com/events/details/boardman-chamber-board-meeting-455
END:VEVENT

END:VCALENDAR
