BEGIN:VCALENDAR
VERSION:2.0
PRODID:-//ChamberMaster//Event Calendar 2.0//EN
METHOD:PUBLISH
X-PUBLISHED-TTL:P3D
REFRESH-INTERVAL:P3D
CALSCALE:GREGORIAN
BEGIN:VEVENT
DTSTART:20190911T000000Z
DTEND:20190911T020000Z
X-MICROSOFT-CDO-ALLDAYEVENT:FALSE
SUMMARY:Boardman Community Extravaganza
DESCRIPTION:An opportunity to get all the information for your community resources.  Fun Games! Free Food! Cool Prizes!
X-ALT-DESC;FMTTYPE=text/html:<br />\nAn opportunity to get all the information for your community resources.&nbsp\; Fun Games! Free Food! Cool Prizes!
LOCATION:Sam Boardman Elementary Gym
UID:e.3223.400
SEQUENCE:3
DTSTAMP:20260423T051523Z
URL:http://boardman.chambermaster.com/events/details/boardman-community-extravaganza-400
END:VEVENT

END:VCALENDAR
