BEGIN:VCALENDAR
VERSION:2.0
PRODID:-//ChamberMaster//Event Calendar 2.0//EN
METHOD:PUBLISH
X-PUBLISHED-TTL:P3D
REFRESH-INTERVAL:P3D
CALSCALE:GREGORIAN
BEGIN:VEVENT
DTSTART;VALUE=DATE:20190420
DTEND;VALUE=DATE:20190421
TRANSP:TRANSPARENT
X-MICROSOFT-CDO-ALLDAYEVENT:TRUE
SUMMARY:Boardmans Annual Easter Egg Hunt
DESCRIPTION:Walkers to fourth grade.
X-ALT-DESC;FMTTYPE=text/html:Walkers to fourth grade.
LOCATION:Boardman Marina Park
UID:e.3223.297
SEQUENCE:3
DTSTAMP:20260424T084233Z
URL:http://boardman.chambermaster.com/events/details/boardmans-annual-easter-egg-hunt-297
END:VEVENT

END:VCALENDAR
