BEGIN:VCALENDAR
VERSION:2.0
PRODID:-//ChamberMaster//Event Calendar 2.0//EN
METHOD:PUBLISH
X-PUBLISHED-TTL:P3D
REFRESH-INTERVAL:P3D
CALSCALE:GREGORIAN
BEGIN:VEVENT
DTSTART:20191207T153000Z
DTEND:20191207T183000Z
X-MICROSOFT-CDO-ALLDAYEVENT:FALSE
SUMMARY:Breakfast with Santa
DESCRIPTION:Come have breakfast with Santa and go for a Hayride!
X-ALT-DESC;FMTTYPE=text/html:Come have breakfast with Santa and go for a Hayride!
LOCATION:Boardman Senior Center
UID:e.3223.499
SEQUENCE:3
DTSTAMP:20260420T233630Z
URL:http://boardman.chambermaster.com/events/details/breakfast-with-santa-499
END:VEVENT

END:VCALENDAR
