BEGIN:VCALENDAR
VERSION:2.0
PRODID:-//ChamberMaster//Event Calendar 2.0//EN
METHOD:PUBLISH
X-PUBLISHED-TTL:P3D
REFRESH-INTERVAL:P3D
CALSCALE:GREGORIAN
BEGIN:VEVENT
DTSTART:20190124T210000Z
DTEND:20190125T000000Z
X-MICROSOFT-CDO-ALLDAYEVENT:FALSE
SUMMARY:Business Education
DESCRIPTION:Business Education Training\n\n55 Hour Rule (Overtime)\n\nRecruitment and Retention strategies\n\nPlease register by
X-ALT-DESC;FMTTYPE=text/html:Business Education Training<br />\n55 Hour Rule (Overtime)<br />\nRecruitment and Retention strategies<br />\nPlease register by
LOCATION:Riverfront Center 2 Marine Drive Boardman OR
UID:e.3223.206
SEQUENCE:3
DTSTAMP:20260425T183455Z
URL:http://boardman.chambermaster.com/events/details/business-education-206
END:VEVENT

END:VCALENDAR
