BEGIN:VCALENDAR
VERSION:2.0
PRODID:-//ChamberMaster//Event Calendar 2.0//EN
METHOD:PUBLISH
X-PUBLISHED-TTL:P3D
REFRESH-INTERVAL:P3D
CALSCALE:GREGORIAN
BEGIN:VEVENT
DTSTART:20191024T160000Z
DTEND:20191024T190000Z
X-MICROSOFT-CDO-ALLDAYEVENT:FALSE
SUMMARY:Business Education Training
DESCRIPTION:Business Education Training \n\n\n\nThe Boardman Chamber of Commerce is pleased to present Jake Thompson\, Motivational Speaker and Entrepreneur for our October 2019 Business Education Training.\n\n\n\nTopics Include: \n\n    *How to Build Unbreakable Grit\n\n        Keep your inner fire constantly fueled by building unstoppable grit.\n\n    *What Matters More Then Setbacks\n\n        Create a daily process for achieving your goals and staying focused.
X-ALT-DESC;FMTTYPE=text/html:<span style="font-family:comic sans ms\;"><span style="font-size:18px\;"><strong>Business Education Training&nbsp\;</strong></span></span><br />\n<br />\nThe Boardman Chamber of Commerce is pleased to present Jake Thompson\, Motivational Speaker and Entrepreneur for our October 2019 Business Education Training.<br />\n<br />\nTopics Include:&nbsp\;<br />\n&nbsp\; &nbsp\;<strong> <span style="font-family:comic sans ms\;">*How to Build Unbreakable Grit</span></strong><br />\n&nbsp\;&nbsp\;&nbsp\;&nbsp\;&nbsp\; &nbsp\; Keep your inner fire constantly fueled by building unstoppable grit.<br />\n&nbsp\; &nbsp\; <strong><span style="font-family:comic sans ms\;">*What Matters More Then Setbacks</span></strong><br />\n&nbsp\;&nbsp\;&nbsp\;&nbsp\;&nbsp\; &nbsp\; Create a daily process for achieving your goals and staying focused.<br />\n&nbsp\;
LOCATION:SAGE Center 101 Olson Rd Boardman\, OR 97818
UID:e.3223.421
SEQUENCE:3
DTSTAMP:20260423T133306Z
URL:http://boardman.chambermaster.com/events/details/business-education-training-421
END:VEVENT

END:VCALENDAR
