BEGIN:VCALENDAR
VERSION:2.0
PRODID:-//ChamberMaster//Event Calendar 2.0//EN
METHOD:PUBLISH
X-PUBLISHED-TTL:P3D
REFRESH-INTERVAL:P3D
CALSCALE:GREGORIAN
BEGIN:VEVENT
DTSTART:20200123T170000Z
DTEND:20200124T000000Z
X-MICROSOFT-CDO-ALLDAYEVENT:FALSE
SUMMARY:Business Education Training
DESCRIPTION:HR Answers\n\n1st session Oregon Legislative Topics 9am-12pm\n\n2nd session Performance Management 1pm-4pm\n\n\n\nAny Questions please call the Boardman Chamber at 541-481-3014
X-ALT-DESC;FMTTYPE=text/html:HR Answers<br />\n1st session Oregon Legislative Topics 9am-12pm<br />\n2nd session Performance Management 1pm-4pm<br />\n<br />\nAny Questions please call the Boardman Chamber at 541-481-3014
LOCATION:Riverfront Center 2 Marine Drive\, Boardman OR 97818
UID:e.3223.523
SEQUENCE:3
DTSTAMP:20260420T233630Z
URL:http://boardman.chambermaster.com/events/details/business-education-training-523
END:VEVENT

END:VCALENDAR
