BEGIN:VCALENDAR
VERSION:2.0
PRODID:-//ChamberMaster//Event Calendar 2.0//EN
METHOD:PUBLISH
X-PUBLISHED-TTL:P3D
REFRESH-INTERVAL:P3D
CALSCALE:GREGORIAN
BEGIN:VEVENT
DTSTART:20190430T010000Z
DTEND:20190430T020000Z
X-MICROSOFT-CDO-ALLDAYEVENT:FALSE
SUMMARY:Candidates Forum
DESCRIPTION:Come and listen to what our candidates have to say!\n\nPort of Morrow Commission\n\nBoardman Parks & Rec\n\nBoardman Rural Fire Protection District
X-ALT-DESC;FMTTYPE=text/html:Come and listen to what our candidates have to say!<br />\nPort of Morrow Commission<br />\nBoardman Parks &amp\; Rec<br />\nBoardman Rural Fire Protection District
LOCATION:Riverfront Center
UID:e.3223.311
SEQUENCE:3
DTSTAMP:20260422T120419Z
URL:http://boardman.chambermaster.com/events/details/candidates-forum-311
END:VEVENT

END:VCALENDAR
