BEGIN:VCALENDAR
VERSION:2.0
PRODID:-//ChamberMaster//Event Calendar 2.0//EN
METHOD:PUBLISH
X-PUBLISHED-TTL:P3D
REFRESH-INTERVAL:P3D
CALSCALE:GREGORIAN
BEGIN:VEVENT
DTSTART:20190116T200000Z
DTEND:20190116T210000Z
X-MICROSOFT-CDO-ALLDAYEVENT:FALSE
SUMMARY:Chamber Luncheon
DESCRIPTION:Midway bar and grill will be catering\n\nTonya Buys from Port View Apartments with be our guest speaker
X-ALT-DESC;FMTTYPE=text/html:Midway bar and grill will be catering<br />\nTonya Buys from Port View Apartments with be our guest speaker
LOCATION:Riverfront Room 2 Marine Dr. Boardman Oregon 97818
UID:e.3223.215
SEQUENCE:3
DTSTAMP:20260425T115215Z
URL:http://boardman.chambermaster.com/events/details/chamber-luncheon-215
END:VEVENT

END:VCALENDAR
