BEGIN:VCALENDAR
VERSION:2.0
PRODID:-//ChamberMaster//Event Calendar 2.0//EN
METHOD:PUBLISH
X-PUBLISHED-TTL:P3D
REFRESH-INTERVAL:P3D
CALSCALE:GREGORIAN
BEGIN:VEVENT
DTSTART:20191120T200000Z
DTEND:20191120T210000Z
X-MICROSOFT-CDO-ALLDAYEVENT:FALSE
SUMMARY:Chamber Luncheon
DESCRIPTION:SAGE Center is sponsoring our Luncheon along with being our guest speaker.
X-ALT-DESC;FMTTYPE=text/html:SAGE Center is sponsoring our Luncheon along with being our guest speaker.
LOCATION:SAGE Center 101 Olson Rd
UID:e.3223.393
SEQUENCE:3
DTSTAMP:20260422T211830Z
URL:http://boardman.chambermaster.com/events/details/chamber-luncheon-393
END:VEVENT

END:VCALENDAR
