BEGIN:VCALENDAR
VERSION:2.0
PRODID:-//ChamberMaster//Event Calendar 2.0//EN
METHOD:PUBLISH
X-PUBLISHED-TTL:P3D
REFRESH-INTERVAL:P3D
CALSCALE:GREGORIAN
BEGIN:VEVENT
DTSTART:20200715T190000Z
DTEND:20200715T200000Z
X-MICROSOFT-CDO-ALLDAYEVENT:FALSE
SUMMARY:Chamber Luncheon
DESCRIPTION:Outside at Marker 40\n\n\n\n**ALL STATE GUIDELINES WILL BE FOLLOWED**\n\n\n\nIt is very important that if you are planning on attending to RSVP. Registration will close on 7/14/2020 at 12pm.
X-ALT-DESC;FMTTYPE=text/html:Outside at Marker 40<br />\n<br />\n**ALL STATE GUIDELINES WILL BE FOLLOWED**<br />\n<br />\nIt is very important that if you are planning on attending to RSVP. Registration will close on 7/14/2020 at 12pm.
LOCATION:
UID:e.3223.487
SEQUENCE:3
DTSTAMP:20260420T164011Z
URL:http://boardman.chambermaster.com/events/details/chamber-luncheon-487
END:VEVENT

END:VCALENDAR
