BEGIN:VCALENDAR
VERSION:2.0
PRODID:-//ChamberMaster//Event Calendar 2.0//EN
METHOD:PUBLISH
X-PUBLISHED-TTL:P3D
REFRESH-INTERVAL:P3D
CALSCALE:GREGORIAN
BEGIN:VEVENT
DTSTART:20190918T003000Z
DTEND:20190918T020000Z
X-MICROSOFT-CDO-ALLDAYEVENT:FALSE
SUMMARY:College Prep GED
DESCRIPTION:INFORMATION SESSION \n\nBoardman 251 N Olson 5:30PM\n\nMilton Freewater 311 N Columbia  5:30PM\n\nHermiston 9AM or 5:30PM Columbia Hall Lab 106\n\nJohn Day Center 835-B S Canyon Blvd 9AM\n\nBaker City Center 3275 Baker Street 9AM
X-ALT-DESC;FMTTYPE=text/html:<u>I<strong>NFORMATION SESSION&nbsp\;</strong></u><br />\nBoardman 251 N Olson 5:30PM<br />\nMilton Freewater 311 N Columbia&nbsp\; 5:30PM<br />\nHermiston 9AM or 5:30PM Columbia Hall Lab 106<br />\nJohn Day Center 835-B S Canyon Blvd 9AM<br />\nBaker City Center 3275 Baker Street 9AM
LOCATION:
UID:e.3223.386
SEQUENCE:3
DTSTAMP:20260422T190013Z
URL:http://boardman.chambermaster.com/events/details/college-prep-ged-386
END:VEVENT

END:VCALENDAR
