BEGIN:VCALENDAR
VERSION:2.0
PRODID:-//ChamberMaster//Event Calendar 2.0//EN
METHOD:PUBLISH
X-PUBLISHED-TTL:P3D
REFRESH-INTERVAL:P3D
CALSCALE:GREGORIAN
BEGIN:VEVENT
DTSTART:20190919T160000Z
DTEND:20190919T180000Z
X-MICROSOFT-CDO-ALLDAYEVENT:FALSE
SUMMARY:College Prep GED
DESCRIPTION:PLACEMENT SESSIONS\n\nBoardman 251 N Olson 5:30PM\n\nMilton Freewater 311 N Columbia 5:30PM\n\nHermiston Columbia Hall Lab 106 9AM or 5:30PM\n\nBaker City Center 3275 Baker Street 9AM\n\nJohn Day Center 835-B S Canyon Blvd 9AM\n\n\n\nClass Starts September 23\, 2019
X-ALT-DESC;FMTTYPE=text/html:<strong><u>PLACEMENT SESSIONS</u></strong><br />\nBoardman 251 N Olson 5:30PM<br />\nMilton Freewater 311 N Columbia 5:30PM<br />\nHermiston Columbia Hall Lab 106 9AM or 5:30PM<br />\nBaker City Center 3275 Baker Street 9AM<br />\nJohn Day Center 835-B S Canyon Blvd 9AM<br />\n<br />\n<em><strong>Class Starts September 23\, 2019</strong></em>
LOCATION:
UID:e.3223.387
SEQUENCE:3
DTSTAMP:20260422T190013Z
URL:http://boardman.chambermaster.com/events/details/college-prep-ged-387
END:VEVENT

END:VCALENDAR
