BEGIN:VCALENDAR
VERSION:2.0
PRODID:-//ChamberMaster//Event Calendar 2.0//EN
METHOD:PUBLISH
X-PUBLISHED-TTL:P3D
REFRESH-INTERVAL:P3D
CALSCALE:GREGORIAN
BEGIN:VEVENT
DTSTART:20200317T003000Z
DTEND:20200317T030000Z
X-MICROSOFT-CDO-ALLDAYEVENT:FALSE
SUMMARY:College Prep GED
DESCRIPTION:Information Session
X-ALT-DESC;FMTTYPE=text/html:Information Session&nbsp\;
LOCATION:Boardman Workforce Training Center 251 N Olson
UID:e.3223.524
SEQUENCE:3
DTSTAMP:20260420T204014Z
URL:http://boardman.chambermaster.com/events/details/college-prep-ged-524
END:VEVENT

END:VCALENDAR
