BEGIN:VCALENDAR
VERSION:2.0
PRODID:-//ChamberMaster//Event Calendar 2.0//EN
METHOD:PUBLISH
X-PUBLISHED-TTL:P3D
REFRESH-INTERVAL:P3D
CALSCALE:GREGORIAN
BEGIN:VEVENT
DTSTART:20190514T180000Z
DTEND:20190514T200000Z
X-MICROSOFT-CDO-ALLDAYEVENT:FALSE
SUMMARY:Community Appreciation Days
DESCRIPTION:Present by BANNER BANK\n\nJoin us for a free hot dog lunch\, refreshments\, ice cream and giveaways.
X-ALT-DESC;FMTTYPE=text/html:Present by BANNER BANK<br />\nJoin us for a free hot dog lunch\, refreshments\, ice cream and giveaways.
LOCATION:204 N Main St\, Boardman OR 97818
UID:e.3223.318
SEQUENCE:3
DTSTAMP:20260423T013149Z
URL:http://boardman.chambermaster.com/events/details/community-appreciation-days-318
END:VEVENT

END:VCALENDAR
