BEGIN:VCALENDAR
VERSION:2.0
PRODID:-//ChamberMaster//Event Calendar 2.0//EN
METHOD:PUBLISH
X-PUBLISHED-TTL:P3D
REFRESH-INTERVAL:P3D
CALSCALE:GREGORIAN
BEGIN:VEVENT
DTSTART:20190828T000000Z
DTEND:20190828T030000Z
X-MICROSOFT-CDO-ALLDAYEVENT:FALSE
SUMMARY:Community Night Out
DESCRIPTION:Come out and meet your local First Responders while enjoying some awesome food!
X-ALT-DESC;FMTTYPE=text/html:Come out and meet your local First Responders while enjoying some awesome food!
LOCATION:Boardman City Park ( Behind the Post office)
UID:e.3223.373
SEQUENCE:3
DTSTAMP:20260426T002228Z
URL:http://boardman.chambermaster.com/events/details/community-night-out-373
END:VEVENT

END:VCALENDAR
