BEGIN:VCALENDAR
VERSION:2.0
PRODID:-//ChamberMaster//Event Calendar 2.0//EN
METHOD:PUBLISH
X-PUBLISHED-TTL:P3D
REFRESH-INTERVAL:P3D
CALSCALE:GREGORIAN
BEGIN:VEVENT
DTSTART:20190314T013000Z
DTEND:20190314T040000Z
X-MICROSOFT-CDO-ALLDAYEVENT:FALSE
SUMMARY:Crafty Night
DESCRIPTION:Counted Cross Stitch
X-ALT-DESC;FMTTYPE=text/html:Counted Cross Stitch
LOCATION:Boardman\, Heppner\, and Irrigon
UID:e.3223.287
SEQUENCE:3
DTSTAMP:20260423T224015Z
URL:http://boardman.chambermaster.com/events/details/crafty-night-287
END:VEVENT

END:VCALENDAR
