BEGIN:VCALENDAR
VERSION:2.0
PRODID:-//ChamberMaster//Event Calendar 2.0//EN
METHOD:PUBLISH
X-PUBLISHED-TTL:P3D
REFRESH-INTERVAL:P3D
CALSCALE:GREGORIAN
BEGIN:VEVENT
DTSTART:20190516T013000Z
DTEND:20190516T040000Z
X-MICROSOFT-CDO-ALLDAYEVENT:FALSE
SUMMARY:Crafty Night
DESCRIPTION:Crafty Night @ the Library\n\nPaper Flowers\n\n\n\nREGISTER ONLINE AT\n\nhttps://oregontrail.ploud.net/
X-ALT-DESC;FMTTYPE=text/html:Crafty Night @ the Library<br />\nPaper Flowers<br />\n<br />\nREGISTER ONLINE AT<br />\nhttps://oregontrail.ploud.net/
LOCATION:Boardman 541-481-3365 Irrigon 541-922-0138
UID:e.3223.315
SEQUENCE:3
DTSTAMP:20260421T225357Z
URL:http://boardman.chambermaster.com/events/details/crafty-night-315
END:VEVENT

END:VCALENDAR
