BEGIN:VCALENDAR
VERSION:2.0
PRODID:-//ChamberMaster//Event Calendar 2.0//EN
METHOD:PUBLISH
X-PUBLISHED-TTL:P3D
REFRESH-INTERVAL:P3D
CALSCALE:GREGORIAN
BEGIN:VEVENT
DTSTART:20190815T020000Z
DTEND:20190815T060000Z
X-MICROSOFT-CDO-ALLDAYEVENT:FALSE
SUMMARY:Dinner & Dancing
DESCRIPTION:Paradise Rose will be catering while Trevor Tagle plays live music. Dance until the music stops!
X-ALT-DESC;FMTTYPE=text/html:Paradise Rose will be catering while Trevor Tagle plays live music. Dance until the music stops!<br />\n&nbsp\;
LOCATION:Morrow County Fair Grounds
UID:e.3223.377
SEQUENCE:3
DTSTAMP:20260421T092734Z
URL:http://boardman.chambermaster.com/events/details/dinner-dancing-377
END:VEVENT

END:VCALENDAR
