BEGIN:VCALENDAR
VERSION:2.0
PRODID:-//ChamberMaster//Event Calendar 2.0//EN
METHOD:PUBLISH
X-PUBLISHED-TTL:P3D
REFRESH-INTERVAL:P3D
CALSCALE:GREGORIAN
BEGIN:VEVENT
DTSTART:20191023T190000Z
DTEND:20191024T013000Z
X-MICROSOFT-CDO-ALLDAYEVENT:FALSE
SUMMARY:Eastern Oregon Career Summit
DESCRIPTION:Connect with your future workforce!
X-ALT-DESC;FMTTYPE=text/html:Connect with your future workforce!
LOCATION:Pendleton Convention Center
UID:e.3223.449
SEQUENCE:3
DTSTAMP:20260425T015336Z
URL:http://boardman.chambermaster.com/events/details/eastern-oregon-career-summit-449
END:VEVENT

END:VCALENDAR
