BEGIN:VCALENDAR
VERSION:2.0
PRODID:-//ChamberMaster//Event Calendar 2.0//EN
METHOD:PUBLISH
X-PUBLISHED-TTL:P3D
REFRESH-INTERVAL:P3D
CALSCALE:GREGORIAN
BEGIN:VEVENT
DTSTART:20190920T003000Z
DTEND:20190920T020000Z
X-MICROSOFT-CDO-ALLDAYEVENT:FALSE
SUMMARY:ELA
DESCRIPTION:PLACEMENT SESSIONS\n\nMilton Freewater 311 N Columbia 5:30PM\n\nHermiston Columbia Hall Computer Lab 106 9AM or 5:30PM
X-ALT-DESC;FMTTYPE=text/html:<strong><u>PLACEMENT SESSIONS</u></strong><br />\nMilton Freewater 311 N Columbia 5:30PM<br />\nHermiston Columbia Hall Computer Lab 106 9AM or 5:30PM
LOCATION:
UID:e.3223.389
SEQUENCE:3
DTSTAMP:20260423T051523Z
URL:http://boardman.chambermaster.com/events/details/ela-389
END:VEVENT

END:VCALENDAR
