BEGIN:VCALENDAR
VERSION:2.0
PRODID:-//ChamberMaster//Event Calendar 2.0//EN
METHOD:PUBLISH
X-PUBLISHED-TTL:P3D
REFRESH-INTERVAL:P3D
CALSCALE:GREGORIAN
BEGIN:VEVENT
DTSTART:20181118T010000Z
DTEND:20181118T050000Z
X-MICROSOFT-CDO-ALLDAYEVENT:FALSE
SUMMARY:FFA Dinner
DESCRIPTION:1st Annual FFA Dinner and auction
X-ALT-DESC;FMTTYPE=text/html:1st Annual FFA Dinner and auction
LOCATION:Riverfront Center 2 Marine Drive Boardman OR 97818
UID:e.3223.188
SEQUENCE:3
DTSTAMP:20260425T221849Z
URL:http://boardman.chambermaster.com/events/details/ffa-dinner-188
END:VEVENT

END:VCALENDAR
