BEGIN:VCALENDAR
VERSION:2.0
PRODID:-//ChamberMaster//Event Calendar 2.0//EN
METHOD:PUBLISH
X-PUBLISHED-TTL:P3D
REFRESH-INTERVAL:P3D
CALSCALE:GREGORIAN
BEGIN:VEVENT
DTSTART:20200731T003000Z
DTEND:20200731T020000Z
X-MICROSOFT-CDO-ALLDAYEVENT:FALSE
SUMMARY:Fire Board Special Meeting
DESCRIPTION:Boardman Rural Fire Protection District Board Special Meeting\n\n                                       Fire Bond 2020\n\n\n\nThis meeting will be broadcasted live via the Boardman Chamber's Facebook. Visit the Chamber's Facebook at the time of the event to watch. You can email questions ahead of time to info@boardmanchamber.org. Questions will also be accepted during the event.
X-ALT-DESC;FMTTYPE=text/html:Boardman Rural Fire Protection District Board Special Meeting<br />\n&nbsp\; &nbsp\; &nbsp\; &nbsp\; &nbsp\; &nbsp\; &nbsp\; &nbsp\; &nbsp\; &nbsp\; &nbsp\; &nbsp\; &nbsp\; &nbsp\; &nbsp\; &nbsp\; &nbsp\; &nbsp\; &nbsp\; &nbsp\;Fire Bond 2020<br />\n<br />\nThis meeting will be broadcasted live via the Boardman Chamber&#39\;s Facebook. Visit the Chamber&#39\;s Facebook at the time of the event to watch. You can email questions ahead of time to info@boardmanchamber.org. Questions will also be accepted during the event.
LOCATION:
UID:e.3223.1274
SEQUENCE:3
DTSTAMP:20260422T194114Z
URL:http://boardman.chambermaster.com/events/details/fire-board-special-meeting-1274
END:VEVENT

END:VCALENDAR
