BEGIN:VCALENDAR
VERSION:2.0
PRODID:-//ChamberMaster//Event Calendar 2.0//EN
METHOD:PUBLISH
X-PUBLISHED-TTL:P3D
REFRESH-INTERVAL:P3D
CALSCALE:GREGORIAN
BEGIN:VEVENT
DTSTART;VALUE=DATE:20190401
DTEND;VALUE=DATE:20190501
TRANSP:TRANSPARENT
X-MICROSOFT-CDO-ALLDAYEVENT:TRUE
SUMMARY:Flea Market
DESCRIPTION:Boardman Police Explorer Post 641 would like to invite you to their first annual city wide yard sale and flea market.\n\nIf you live in City Limits and plan on having a yard sale\, please call by May 11th and they will get your address on the map. If you live outside of city limits and would like to have an outdoor spot at the SAGE Center there is a vender fee of $20.\n\nPlease call Keri at 541-701-1337 or heidemank@cityofboardman.com by May 3rd
X-ALT-DESC;FMTTYPE=text/html:Boardman Police Explorer Post 641 would like to invite you to their first annual city wide yard sale and flea market.<br />\nIf you live in City Limits and plan on having a yard sale\, please call by May 11th and they will get your address on the map. If you live outside of city limits and would like to have an outdoor spot at the SAGE Center there is a vender fee of $20.<br />\nPlease call Keri at 541-701-1337 or <a href="mailto:heidemank@cityofboardman.com">heidemank@cityofboardman.com</a> by May 3rd
LOCATION:All around the city of Boardman and at the Sage Center
UID:e.3223.302
SEQUENCE:3
DTSTAMP:20260422T161518Z
URL:http://boardman.chambermaster.com/events/details/flea-market-302
END:VEVENT

END:VCALENDAR
