BEGIN:VCALENDAR
VERSION:2.0
PRODID:-//ChamberMaster//Event Calendar 2.0//EN
METHOD:PUBLISH
X-PUBLISHED-TTL:P3D
REFRESH-INTERVAL:P3D
CALSCALE:GREGORIAN
BEGIN:VEVENT
DTSTART:20190511T180000Z
DTEND:20190511T220000Z
X-MICROSOFT-CDO-ALLDAYEVENT:FALSE
SUMMARY:Flea Market
DESCRIPTION:Flea Market and City Wide Yard Sale!\n\n\n\nquestions please contact Keri 541-701-1337
X-ALT-DESC;FMTTYPE=text/html:Flea Market and City Wide Yard Sale!<br />\n<br />\nquestions please contact Keri 541-701-1337
LOCATION:Flea Market and city yard sale maps will be avilable to you at the SAGE Center. 101 Olson Rd\, Boardman OR 97818
UID:e.3223.316
SEQUENCE:3
DTSTAMP:20260422T153440Z
URL:http://boardman.chambermaster.com/events/details/flea-market-316
END:VEVENT

END:VCALENDAR
