BEGIN:VCALENDAR
VERSION:2.0
PRODID:-//ChamberMaster//Event Calendar 2.0//EN
METHOD:PUBLISH
X-PUBLISHED-TTL:P3D
REFRESH-INTERVAL:P3D
CALSCALE:GREGORIAN
BEGIN:VEVENT
DTSTART:20190726T160000Z
DTEND:20190726T233000Z
X-MICROSOFT-CDO-ALLDAYEVENT:FALSE
SUMMARY:FREE Landlord Training
DESCRIPTION:Fair Housing Council of Oregon 9-12pm\n\nOregon Health Authority 1pm-2pm\n\nLegal Aid Services of Oregon 2:30pm-4pm
X-ALT-DESC;FMTTYPE=text/html:Fair Housing Council of Oregon 9-12pm<br />\nOregon Health Authority 1pm-2pm<br />\nLegal Aid Services of Oregon 2:30pm-4pm
LOCATION:Pendleton Community Room 501 SW Emigrant Ave. Pendleton\, Oregon
UID:e.3223.369
SEQUENCE:3
DTSTAMP:20260425T032357Z
URL:http://boardman.chambermaster.com/events/details/free-landlord-training-369
END:VEVENT

END:VCALENDAR
