BEGIN:VCALENDAR
VERSION:2.0
PRODID:-//ChamberMaster//Event Calendar 2.0//EN
METHOD:PUBLISH
X-PUBLISHED-TTL:P3D
REFRESH-INTERVAL:P3D
CALSCALE:GREGORIAN
BEGIN:VEVENT
DTSTART;VALUE=DATE:20190318
DTEND;VALUE=DATE:20190319
TRANSP:TRANSPARENT
X-MICROSOFT-CDO-ALLDAYEVENT:TRUE
SUMMARY:GED INFO Session
DESCRIPTION:Information Sessions\n\nHermiston Columbia Hall Lab 106 9am or 5:30pm\n\nPlacement/ Registration\n\nWedneday March 20th 9am or 5:30pm Columbia Hall Lab 106\n\n\n\nInformation Session\n\nBaker City Center 3275 Baker Street 9am\n\nPlacement Session\n\nBy appointment\, contact Sandra Emery 541-523-9127 semery@bluecc.edu\n\n\n\nInformation Session\n\nPendleton Campus Morrow Hall\, room 204 9am or 5:30pm\n\nPlacement Session\n\nWednesday March 20th Morrow Hall\, room 6 9am or 5:30pm\n\n\n\nInformation session\n\nMilton Freewater 311 N Columbia 5:30pm\n\nPlacement Session\n\nWednesday March 20th 5:30pm\n\n\n\nClasses begin on April 1st\, 2019
X-ALT-DESC;FMTTYPE=text/html:<strong>Information Sessions</strong><br />\nHermiston Columbia Hall Lab 106 9am or 5:30pm<br />\n<strong>Placement/ Registration</strong><br />\nWedneday March 20th 9am or 5:30pm Columbia Hall Lab 106<br />\n<br />\n<strong>Information Session</strong><br />\nBaker City Center&nbsp\;3275 Baker Street 9am<br />\n<strong>Placement Session</strong><br />\nBy appointment\, contact Sandra Emery 541-523-9127 semery@bluecc.edu<br />\n<br />\n<strong>Information Session</strong><br />\nPendleton Campus Morrow Hall\, room 204 9am or 5:30pm<br />\n<strong>Placement Session</strong><br />\nWednesday March 20th Morrow Hall\, room 6 9am or 5:30pm<br />\n<br />\n<strong>Information session</strong><br />\nMilton Freewater 311 N Columbia 5:30pm<br />\n<strong>Placement Session</strong><br />\nWednesday March 20th 5:30pm<br />\n<br />\n<strong>Classes begin on April 1st\, 2019</strong><br />\n<br />\n&nbsp\;
LOCATION:
UID:e.3223.242
SEQUENCE:3
DTSTAMP:20260424T145745Z
URL:http://boardman.chambermaster.com/events/details/ged-info-session-242
END:VEVENT

END:VCALENDAR
