BEGIN:VCALENDAR
VERSION:2.0
PRODID:-//ChamberMaster//Event Calendar 2.0//EN
METHOD:PUBLISH
X-PUBLISHED-TTL:P3D
REFRESH-INTERVAL:P3D
CALSCALE:GREGORIAN
BEGIN:VEVENT
DTSTART:20190912T230000Z
DTEND:20190913T020000Z
X-MICROSOFT-CDO-ALLDAYEVENT:FALSE
SUMMARY:Hermiston Community Block Party
DESCRIPTION:Join State Representative Greg Smith for a Block Party in Hermiston! \n\nFood and drink will be provided.
X-ALT-DESC;FMTTYPE=text/html:Join State Representative Greg Smith for a Block Party in Hermiston!&nbsp\;<br />\nFood and drink will be provided.
LOCATION:Main Street Hermiston
UID:e.3223.408
SEQUENCE:3
DTSTAMP:20260422T235235Z
URL:http://boardman.chambermaster.com/events/details/hermiston-community-block-party-408
END:VEVENT

END:VCALENDAR
