BEGIN:VCALENDAR
VERSION:2.0
PRODID:-//ChamberMaster//Event Calendar 2.0//EN
METHOD:PUBLISH
X-PUBLISHED-TTL:P3D
REFRESH-INTERVAL:P3D
CALSCALE:GREGORIAN
BEGIN:VEVENT
DTSTART:20191120T013000Z
DTEND:20191120T023000Z
X-MICROSOFT-CDO-ALLDAYEVENT:FALSE
SUMMARY:Homebuyer Education Class
DESCRIPTION:You will learn steps to becoming a homeowner\, do's and don'ts of homebuying\, how to find the perfect home with your Realtor.\n\n\n\nThis event is put on by Academy Mortgage Corporation
X-ALT-DESC;FMTTYPE=text/html:You will learn steps to becoming a homeowner\, do&#39\;s and don&#39\;ts of homebuying\, how to find the perfect home with your Realtor.<br />\n<br />\nThis event is put on by Academy Mortgage Corporation
LOCATION:SAGE Center 101 Olson Rd
UID:e.3223.496
SEQUENCE:3
DTSTAMP:20260420T172655Z
URL:http://boardman.chambermaster.com/events/details/homebuyer-education-class-496
END:VEVENT

END:VCALENDAR
