BEGIN:VCALENDAR
VERSION:2.0
PRODID:-//ChamberMaster//Event Calendar 2.0//EN
METHOD:PUBLISH
X-PUBLISHED-TTL:P3D
REFRESH-INTERVAL:P3D
CALSCALE:GREGORIAN
BEGIN:VEVENT
DTSTART:20190306T180000Z
DTEND:20190306T220000Z
X-MICROSOFT-CDO-ALLDAYEVENT:FALSE
SUMMARY:Job Fair
DESCRIPTION:Learn about local career opportunities\n\nMeet with employers who are actively hiring\n\nIdentify education and training for high deman positions
X-ALT-DESC;FMTTYPE=text/html:Learn about local career opportunities<br />\nMeet with employers who are actively hiring<br />\nIdentify education and training for high deman positions
LOCATION:101 Olson Rd Boardman\, OR 97818- Sage Center 251 Olson Rd Boardman\, OR 97818- BMCC Workforce Training Center
UID:e.3223.268
SEQUENCE:3
DTSTAMP:20260423T224258Z
URL:http://boardman.chambermaster.com/events/details/job-fair-268
END:VEVENT

END:VCALENDAR
