BEGIN:VCALENDAR
VERSION:2.0
PRODID:-//ChamberMaster//Event Calendar 2.0//EN
METHOD:PUBLISH
X-PUBLISHED-TTL:P3D
REFRESH-INTERVAL:P3D
CALSCALE:GREGORIAN
BEGIN:VEVENT
DTSTART:20200225T150000Z
DTEND:20200225T160000Z
X-MICROSOFT-CDO-ALLDAYEVENT:FALSE
SUMMARY:Legislative Affairs Video Conference
DESCRIPTION:Come learn what's happening during the short session.
X-ALT-DESC;FMTTYPE=text/html:Come learn what&#39\;s happening during the short session.
LOCATION:BMCC Workforce Training Center Boardman\, OR
UID:e.3223.533
SEQUENCE:3
DTSTAMP:20260420T010224Z
URL:http://boardman.chambermaster.com/events/details/legislative-affairs-video-conference-533
END:VEVENT

END:VCALENDAR
