BEGIN:VCALENDAR
VERSION:2.0
PRODID:-//ChamberMaster//Event Calendar 2.0//EN
METHOD:PUBLISH
X-PUBLISHED-TTL:P3D
REFRESH-INTERVAL:P3D
CALSCALE:GREGORIAN
BEGIN:VEVENT
DTSTART:20190518T211500Z
DTEND:20190518T230000Z
X-MICROSOFT-CDO-ALLDAYEVENT:FALSE
SUMMARY:Movie Event
DESCRIPTION:Toy Story will be playing at the SAGE Center!
X-ALT-DESC;FMTTYPE=text/html:Toy Story will be playing at the SAGE Center!
LOCATION:101 Olson Rd\, Boardman OR 97818
UID:e.3223.314
SEQUENCE:3
DTSTAMP:20260421T225356Z
URL:http://boardman.chambermaster.com/events/details/movie-event-314
END:VEVENT

END:VCALENDAR
