BEGIN:VCALENDAR
VERSION:2.0
PRODID:-//ChamberMaster//Event Calendar 2.0//EN
METHOD:PUBLISH
X-PUBLISHED-TTL:P3D
REFRESH-INTERVAL:P3D
CALSCALE:GREGORIAN
BEGIN:VEVENT
DTSTART:20190921T021500Z
DTEND:20190921T040000Z
X-MICROSOFT-CDO-ALLDAYEVENT:FALSE
SUMMARY:Movie Event
DESCRIPTION:Aladdin will be showing at The SAGE Center\n\n$4 per person\, includes popcorn. Bottled water and concessions available for cash purchase.
X-ALT-DESC;FMTTYPE=text/html:Aladdin will be showing at The SAGE Center<br />\n$4 per person\, includes popcorn. Bottled water and concessions available for cash purchase.
LOCATION:
UID:e.3223.406
SEQUENCE:3
DTSTAMP:20260422T190011Z
URL:http://boardman.chambermaster.com/events/details/movie-event-406
END:VEVENT

END:VCALENDAR
