BEGIN:VCALENDAR
VERSION:2.0
PRODID:-//ChamberMaster//Event Calendar 2.0//EN
METHOD:PUBLISH
X-PUBLISHED-TTL:P3D
REFRESH-INTERVAL:P3D
CALSCALE:GREGORIAN
BEGIN:VEVENT
DTSTART:20190921T211500Z
DTEND:20190921T230000Z
X-MICROSOFT-CDO-ALLDAYEVENT:FALSE
SUMMARY:Movie Event
DESCRIPTION:The Aladdin will be playing at The SAGE Center
X-ALT-DESC;FMTTYPE=text/html:The Aladdin will be playing at The SAGE Center<br />\n&nbsp\;
LOCATION:101 Olson Rd Boardman OR 97818
UID:e.3223.407
SEQUENCE:3
DTSTAMP:20260422T190010Z
URL:http://boardman.chambermaster.com/events/details/movie-event-407
END:VEVENT

END:VCALENDAR
