BEGIN:VCALENDAR
VERSION:2.0
PRODID:-//ChamberMaster//Event Calendar 2.0//EN
METHOD:PUBLISH
X-PUBLISHED-TTL:P3D
REFRESH-INTERVAL:P3D
CALSCALE:GREGORIAN
BEGIN:VEVENT
DTSTART:20191116T031500Z
DTEND:20191116T050000Z
X-MICROSOFT-CDO-ALLDAYEVENT:FALSE
SUMMARY:Movie Event
DESCRIPTION:Spider Man will be playing at the SAGE Center
X-ALT-DESC;FMTTYPE=text/html:Spider Man will be playing at the SAGE Center<br />\n&nbsp\;
LOCATION:101 Olson Rd
UID:e.3223.480
SEQUENCE:3
DTSTAMP:20260420T212926Z
URL:http://boardman.chambermaster.com/events/details/movie-event-480
END:VEVENT

END:VCALENDAR
