BEGIN:VCALENDAR
VERSION:2.0
PRODID:-//ChamberMaster//Event Calendar 2.0//EN
METHOD:PUBLISH
X-PUBLISHED-TTL:P3D
REFRESH-INTERVAL:P3D
CALSCALE:GREGORIAN
BEGIN:VEVENT
DTSTART:20190119T031500Z
DTEND:20190119T050000Z
X-MICROSOFT-CDO-ALLDAYEVENT:FALSE
SUMMARY:Movie Night
DESCRIPTION:
X-ALT-DESC;FMTTYPE=text/html:
LOCATION:Sage Center 101 Olson Rd
UID:e.3223.227
SEQUENCE:3
DTSTAMP:20260425T145750Z
URL:http://boardman.chambermaster.com/events/details/movie-night-227
END:VEVENT

END:VCALENDAR
