BEGIN:VCALENDAR
VERSION:2.0
PRODID:-//ChamberMaster//Event Calendar 2.0//EN
METHOD:PUBLISH
X-PUBLISHED-TTL:P3D
REFRESH-INTERVAL:P3D
CALSCALE:GREGORIAN
BEGIN:VEVENT
DTSTART:20190316T021500Z
DTEND:20190316T040000Z
X-MICROSOFT-CDO-ALLDAYEVENT:FALSE
SUMMARY:Movie Night
DESCRIPTION:
X-ALT-DESC;FMTTYPE=text/html:
LOCATION:Sage Center 101 Olson Rd Boardman\, OR 97818
UID:e.3223.275
SEQUENCE:3
DTSTAMP:20260424T033654Z
URL:http://boardman.chambermaster.com/events/details/movie-night-275
END:VEVENT

END:VCALENDAR
