BEGIN:VCALENDAR
VERSION:2.0
PRODID:-//ChamberMaster//Event Calendar 2.0//EN
METHOD:PUBLISH
X-PUBLISHED-TTL:P3D
REFRESH-INTERVAL:P3D
CALSCALE:GREGORIAN
BEGIN:VEVENT
DTSTART;VALUE=DATE:20190721
DTEND;VALUE=DATE:20190722
TRANSP:TRANSPARENT
X-MICROSOFT-CDO-ALLDAYEVENT:TRUE
SUMMARY:National Ice Cream Day
DESCRIPTION:Buy 1 Get 1
X-ALT-DESC;FMTTYPE=text/html:Buy 1 Get 1
LOCATION:SAGE Center 101 Olson Rd
UID:e.3223.370
SEQUENCE:3
DTSTAMP:20260426T015546Z
URL:http://boardman.chambermaster.com/events/details/national-ice-cream-day-370
END:VEVENT

END:VCALENDAR
