BEGIN:VCALENDAR
VERSION:2.0
PRODID:-//ChamberMaster//Event Calendar 2.0//EN
METHOD:PUBLISH
X-PUBLISHED-TTL:P3D
REFRESH-INTERVAL:P3D
CALSCALE:GREGORIAN
BEGIN:VEVENT
DTSTART:20190906T150000Z
DTEND:20190906T230000Z
X-MICROSOFT-CDO-ALLDAYEVENT:FALSE
SUMMARY:NEW HOURS
DESCRIPTION:The Chamber has new hours of operation for Fridays starting today.\n\n8AM-4PM
X-ALT-DESC;FMTTYPE=text/html:The Chamber has new hours of operation for Fridays starting today.<br />\n8AM-4PM
LOCATION:
UID:e.3223.391
SEQUENCE:3
DTSTAMP:20260423T051523Z
URL:http://boardman.chambermaster.com/events/details/new-hours-391
END:VEVENT

END:VCALENDAR
