BEGIN:VCALENDAR
VERSION:2.0
PRODID:-//ChamberMaster//Event Calendar 2.0//EN
METHOD:PUBLISH
X-PUBLISHED-TTL:P3D
REFRESH-INTERVAL:P3D
CALSCALE:GREGORIAN
BEGIN:VEVENT
DTSTART:20201004T030000Z
DTEND:20201004T050000Z
X-MICROSOFT-CDO-ALLDAYEVENT:FALSE
SUMMARY:Night Golf
DESCRIPTION:Join us for 9 holes of glow-in-the-dark FUN! Saturday October 3\, 2020. $30.00 per person price includes 9 holes and 2 light up LED Golf Balls. Only 30 spots available sign up and pay to reserve your tee time today.
X-ALT-DESC;FMTTYPE=text/html:Join us for 9 holes of glow-in-the-dark FUN! Saturday October 3\, 2020. $30.00 per person price includes 9 holes and 2 light up LED Golf Balls. Only 30 spots available sign up and pay to reserve your tee time today.
LOCATION:Marker 40 Golf Club 78873 Toms Camp Rd\, Boardman\, OR 97818
UID:e.3223.1292
SEQUENCE:3
DTSTAMP:20260420T100949Z
URL:http://boardman.chambermaster.com/events/details/night-golf-1292
END:VEVENT

END:VCALENDAR
