BEGIN:VCALENDAR
VERSION:2.0
PRODID:-//ChamberMaster//Event Calendar 2.0//EN
METHOD:PUBLISH
X-PUBLISHED-TTL:P3D
REFRESH-INTERVAL:P3D
CALSCALE:GREGORIAN
BEGIN:VEVENT
DTSTART;VALUE=DATE:20190824
DTEND;VALUE=DATE:20190826
TRANSP:TRANSPARENT
X-MICROSOFT-CDO-ALLDAYEVENT:TRUE
SUMMARY:OMSI
DESCRIPTION:OMSI is coming to the SAGE Center! Come and celebrate Oregon Agriculture
X-ALT-DESC;FMTTYPE=text/html:OMSI is coming to the SAGE Center! Come and celebrate Oregon Agriculture
LOCATION:SAGE Center 101 Olson Rd Boardman OR 97818
UID:e.3223.372
SEQUENCE:3
DTSTAMP:20260421T114352Z
URL:http://boardman.chambermaster.com/events/details/omsi-372
END:VEVENT

END:VCALENDAR
