BEGIN:VCALENDAR
VERSION:2.0
PRODID:-//ChamberMaster//Event Calendar 2.0//EN
METHOD:PUBLISH
X-PUBLISHED-TTL:P3D
REFRESH-INTERVAL:P3D
CALSCALE:GREGORIAN
BEGIN:VEVENT
DTSTART;VALUE=DATE:20190325
DTEND;VALUE=DATE:20190406
TRANSP:TRANSPARENT
X-MICROSOFT-CDO-ALLDAYEVENT:TRUE
SUMMARY:SAGE-Actors Needed
DESCRIPTION:Actors for all ages are needed to appear in a commcercial for the SAGE Center in Boardman\, Oregon. The commercial will be aired on Tri-Cities and Portland Television stations during summer 2019 and on social media.\n\nCharacters\n\n4-6 children ages 6-15\n\n2-4 adults ges 20-50\n\n2-4 dults ages 55-75
X-ALT-DESC;FMTTYPE=text/html:Actors for all ages are needed to appear in a commcercial for the SAGE Center in Boardman\, Oregon. The commercial will be aired on Tri-Cities and Portland Television stations during summer 2019 and on social media.<br />\n<u>Characters</u><br />\n4-6 children ages 6-15<br />\n2-4 adults ges 20-50<br />\n2-4 dults ages 55-75
LOCATION:
UID:e.3223.293
SEQUENCE:3
DTSTAMP:20260423T011322Z
URL:http://boardman.chambermaster.com/events/details/sage-actors-needed-293
END:VEVENT

END:VCALENDAR
