BEGIN:VCALENDAR
VERSION:2.0
PRODID:-//ChamberMaster//Event Calendar 2.0//EN
METHOD:PUBLISH
X-PUBLISHED-TTL:P3D
REFRESH-INTERVAL:P3D
CALSCALE:GREGORIAN
BEGIN:VEVENT
DTSTART:20191019T211500Z
DTEND:20191019T230000Z
X-MICROSOFT-CDO-ALLDAYEVENT:FALSE
SUMMARY:SAGE Movie Event
DESCRIPTION:Toy Story 4 will be playing at the SAGE Center. \n\n$4 per person\, includes free popcorn. Bottled water concessions available for cash purchase.
X-ALT-DESC;FMTTYPE=text/html:Toy Story 4 will be playing at the SAGE Center.&nbsp\;<br />\n$4 per person\, includes free popcorn. Bottled water concessions available for cash purchase.
LOCATION:
UID:e.3223.444
SEQUENCE:3
DTSTAMP:20260425T130538Z
URL:http://boardman.chambermaster.com/events/details/sage-movie-event-444
END:VEVENT

END:VCALENDAR
