BEGIN:VCALENDAR
VERSION:2.0
PRODID:-//ChamberMaster//Event Calendar 2.0//EN
METHOD:PUBLISH
X-PUBLISHED-TTL:P3D
REFRESH-INTERVAL:P3D
CALSCALE:GREGORIAN
BEGIN:VEVENT
DTSTART:20190713T170000Z
DTEND:20190713T200000Z
X-MICROSOFT-CDO-ALLDAYEVENT:FALSE
SUMMARY:SAGE Saturday
DESCRIPTION:Decorate\, build and test a balloon-powered car!\n\n\n\nThis STEAM craft facilitates learning through the process of experimentation\, and trial and error.
X-ALT-DESC;FMTTYPE=text/html:Decorate\, build and test a balloon-powered car!<br />\n<br />\nThis STEAM craft facilitates learning through the process of experimentation\, and trial and error.
LOCATION:
UID:e.3223.368
SEQUENCE:3
DTSTAMP:20260424T164531Z
URL:http://boardman.chambermaster.com/events/details/sage-saturday-368
END:VEVENT

END:VCALENDAR
