BEGIN:VCALENDAR
VERSION:2.0
PRODID:-//ChamberMaster//Event Calendar 2.0//EN
METHOD:PUBLISH
X-PUBLISHED-TTL:P3D
REFRESH-INTERVAL:P3D
CALSCALE:GREGORIAN
BEGIN:VEVENT
DTSTART:20190914T170000Z
DTEND:20190914T190000Z
X-MICROSOFT-CDO-ALLDAYEVENT:FALSE
SUMMARY:SAGE Saturday
DESCRIPTION:SAGE Saturday\n\nMeet live birds of prey and owl pallet discovery.\n\nLynn and Bob from Blue Mountain Wildlife will be here with some of their educational birds.
X-ALT-DESC;FMTTYPE=text/html:SAGE Saturday<br />\nMeet live birds of prey and owl pallet discovery.<br />\nLynn and Bob from Blue Mountain Wildlife will be here with some of their educational birds.
LOCATION:101 Olson Rd Boardman OR 97818
UID:e.3223.405
SEQUENCE:3
DTSTAMP:20260425T010348Z
URL:http://boardman.chambermaster.com/events/details/sage-saturday-405
END:VEVENT

END:VCALENDAR
